BEGIN:VCALENDAR
VERSION:2.0
PRODID:-//DOT Durangaldea - ECPv6.15.18//NONSGML v1.0//EN
CALSCALE:GREGORIAN
METHOD:PUBLISH
X-WR-CALNAME:DOT Durangaldea
X-ORIGINAL-URL:https://dot.eus
X-WR-CALDESC:Events for DOT Durangaldea
REFRESH-INTERVAL;VALUE=DURATION:PT1H
X-Robots-Tag:noindex
X-PUBLISHED-TTL:PT1H
BEGIN:VTIMEZONE
TZID:Europe/Paris
BEGIN:DAYLIGHT
TZOFFSETFROM:+0100
TZOFFSETTO:+0200
TZNAME:CEST
DTSTART:20250330T010000
END:DAYLIGHT
BEGIN:STANDARD
TZOFFSETFROM:+0200
TZOFFSETTO:+0100
TZNAME:CET
DTSTART:20251026T010000
END:STANDARD
BEGIN:DAYLIGHT
TZOFFSETFROM:+0100
TZOFFSETTO:+0200
TZNAME:CEST
DTSTART:20260329T010000
END:DAYLIGHT
BEGIN:STANDARD
TZOFFSETFROM:+0200
TZOFFSETTO:+0100
TZNAME:CET
DTSTART:20261025T010000
END:STANDARD
BEGIN:DAYLIGHT
TZOFFSETFROM:+0100
TZOFFSETTO:+0200
TZNAME:CEST
DTSTART:20270328T010000
END:DAYLIGHT
BEGIN:STANDARD
TZOFFSETFROM:+0200
TZOFFSETTO:+0100
TZNAME:CET
DTSTART:20271031T010000
END:STANDARD
END:VTIMEZONE
BEGIN:VEVENT
DTSTART;TZID=Europe/Paris:20260420T174500
DTEND;TZID=Europe/Paris:20260420T194500
DTSTAMP:20260425T183236
CREATED:20260416T105931Z
LAST-MODIFIED:20260416T105931Z
UID:18065-1776707100-1776714300@dot.eus
SUMMARY:No te olvidaré
DESCRIPTION:📍 Cine Zugaza\, Durango \nDrama emozional sakona\, non memoria eta galeraren gaineko hausnarketa egiten den. Bihotza ukitzen duen istorio intimo eta zintzoa.
URL:https://dot.eus/ekitaldiak/no-te-olvidare-5/
CATEGORIES:Zinema
END:VEVENT
BEGIN:VEVENT
DTSTART;TZID=Europe/Paris:20260420T174500
DTEND;TZID=Europe/Paris:20260420T194500
DTSTAMP:20260425T183236
CREATED:20260416T110336Z
LAST-MODIFIED:20260416T110336Z
UID:18077-1776707100-1776714300@dot.eus
SUMMARY:La familia Benetón +2
DESCRIPTION:📍 Cine Zugaza\, Durango \nKomedia alaia eta familiarra\, non familia bitxi baten abenturak kontatzen diren. Barreak eta bihotza ukitzen dituen istorio dibertigarria.
URL:https://dot.eus/ekitaldiak/la-familia-beneton-2-8/
CATEGORIES:Zinema
END:VEVENT
BEGIN:VEVENT
DTSTART;TZID=Europe/Paris:20260420T174500
DTEND;TZID=Europe/Paris:20260420T194500
DTSTAMP:20260425T183236
CREATED:20260416T110738Z
LAST-MODIFIED:20260416T110738Z
UID:18087-1776707100-1776714300@dot.eus
SUMMARY:La momia de Lee Cronin
DESCRIPTION:📍 Cine Zugaza\, Durango \nBeldurrezko thriller izugarria\, non momia baten kondairak giro iluna eta tentsioz betea sortzen duen. Intentsitatea eta misterioa uztartzen dituen proposamena.
URL:https://dot.eus/ekitaldiak/la-momia-de-lee-cronin-7/
CATEGORIES:Zinema
END:VEVENT
BEGIN:VEVENT
DTSTART;TZID=Europe/Paris:20260420T190000
DTEND;TZID=Europe/Paris:20260420T210000
DTSTAMP:20260425T183236
CREATED:20260416T111341Z
LAST-MODIFIED:20260416T111341Z
UID:18102-1776711600-1776718800@dot.eus
SUMMARY:El último Vikingo
DESCRIPTION:📍 Zornotza Aretoa\, Amorebieta-Etxano \nIparraldeko mitologiaren inguruko abentura zinematografikoa. Borroka\, leialtasuna eta aurkikuntza pertsonalaren istorio epikoa.
URL:https://dot.eus/ekitaldiak/el-ultimo-vikingo-8/
CATEGORIES:Zinema
END:VEVENT
BEGIN:VEVENT
DTSTART;TZID=Europe/Paris:20260420T193500
DTEND;TZID=Europe/Paris:20260420T213500
DTSTAMP:20260425T183236
CREATED:20260416T110738Z
LAST-MODIFIED:20260416T110738Z
UID:18088-1776713700-1776720900@dot.eus
SUMMARY:La momia de Lee Cronin
DESCRIPTION:📍 Cine Zugaza\, Durango \nBeldurrezko thriller izugarria\, non momia baten kondairak giro iluna eta tentsioz betea sortzen duen. Intentsitatea eta misterioa uztartzen dituen proposamena.
URL:https://dot.eus/ekitaldiak/la-momia-de-lee-cronin-8/
CATEGORIES:Zinema
END:VEVENT
BEGIN:VEVENT
DTSTART;TZID=Europe/Paris:20260420T200000
DTEND;TZID=Europe/Paris:20260420T213800
DTSTAMP:20260425T183236
CREATED:20260416T111945Z
LAST-MODIFIED:20260416T111945Z
UID:18120-1776715200-1776721080@dot.eus
SUMMARY:Una hija en Tokio
DESCRIPTION:📍 Arriola Antzokia\, Elorrio \nDrama familiarra\, non distantziak eta sentimenduek istorio hunkigarria eraikitzen duten. Tokio eta Euskal Herriaren arteko bidaia emozionala. (98 min)
URL:https://dot.eus/ekitaldiak/una-hija-en-tokio-4/
CATEGORIES:Zinema
END:VEVENT
BEGIN:VEVENT
DTSTART;TZID=Europe/Paris:20260420T201500
DTEND;TZID=Europe/Paris:20260420T221500
DTSTAMP:20260425T183236
CREATED:20260416T105934Z
LAST-MODIFIED:20260416T105934Z
UID:18066-1776716100-1776723300@dot.eus
SUMMARY:No te olvidaré
DESCRIPTION:📍 Cine Zugaza\, Durango \nDrama emozional sakona\, non memoria eta galeraren gaineko hausnarketa egiten den. Bihotza ukitzen duen istorio intimo eta zintzoa.
URL:https://dot.eus/ekitaldiak/no-te-olvidare-6/
CATEGORIES:Zinema
END:VEVENT
BEGIN:VEVENT
DTSTART;TZID=Europe/Paris:20260420T201500
DTEND;TZID=Europe/Paris:20260420T221500
DTSTAMP:20260425T183236
CREATED:20260416T110336Z
LAST-MODIFIED:20260416T110336Z
UID:18078-1776716100-1776723300@dot.eus
SUMMARY:La familia Benetón +2
DESCRIPTION:📍 Cine Zugaza\, Durango \nKomedia alaia eta familiarra\, non familia bitxi baten abenturak kontatzen diren. Barreak eta bihotza ukitzen dituen istorio dibertigarria.
URL:https://dot.eus/ekitaldiak/la-familia-beneton-2-9/
CATEGORIES:Zinema
END:VEVENT
BEGIN:VEVENT
DTSTART;TZID=Europe/Paris:20260420T203000
DTEND;TZID=Europe/Paris:20260420T223000
DTSTAMP:20260425T183236
CREATED:20260416T111542Z
LAST-MODIFIED:20260416T111542Z
UID:18108-1776717000-1776724200@dot.eus
SUMMARY:Caminando con el diablo
DESCRIPTION:📍 Ermua Antzokia\, Ermua \nThriller psikologiko intentsua\, non deabruarekin egindako itun batek ondorio latzak dituen. Tentsioz eta giro ilunez josiriko istorioa.
URL:https://dot.eus/ekitaldiak/caminando-con-el-diablo-2/
CATEGORIES:Zinema
END:VEVENT
BEGIN:VEVENT
DTSTART;TZID=Europe/Paris:20260421T174500
DTEND;TZID=Europe/Paris:20260421T194500
DTSTAMP:20260425T183236
CREATED:20260416T105935Z
LAST-MODIFIED:20260416T105935Z
UID:18067-1776793500-1776800700@dot.eus
SUMMARY:No te olvidaré
DESCRIPTION:📍 Cine Zugaza\, Durango \nDrama emozional sakona\, non memoria eta galeraren gaineko hausnarketa egiten den. Bihotza ukitzen duen istorio intimo eta zintzoa.
URL:https://dot.eus/ekitaldiak/no-te-olvidare-7/
CATEGORIES:Zinema
END:VEVENT
BEGIN:VEVENT
DTSTART;TZID=Europe/Paris:20260421T174500
DTEND;TZID=Europe/Paris:20260421T194500
DTSTAMP:20260425T183236
CREATED:20260416T110336Z
LAST-MODIFIED:20260416T110336Z
UID:18079-1776793500-1776800700@dot.eus
SUMMARY:La familia Benetón +2
DESCRIPTION:📍 Cine Zugaza\, Durango \nKomedia alaia eta familiarra\, non familia bitxi baten abenturak kontatzen diren. Barreak eta bihotza ukitzen dituen istorio dibertigarria.
URL:https://dot.eus/ekitaldiak/la-familia-beneton-2-10/
CATEGORIES:Zinema
END:VEVENT
BEGIN:VEVENT
DTSTART;TZID=Europe/Paris:20260421T174500
DTEND;TZID=Europe/Paris:20260421T194500
DTSTAMP:20260425T183236
CREATED:20260416T110738Z
LAST-MODIFIED:20260416T110738Z
UID:18089-1776793500-1776800700@dot.eus
SUMMARY:La momia de Lee Cronin
DESCRIPTION:📍 Cine Zugaza\, Durango \nBeldurrezko thriller izugarria\, non momia baten kondairak giro iluna eta tentsioz betea sortzen duen. Intentsitatea eta misterioa uztartzen dituen proposamena.
URL:https://dot.eus/ekitaldiak/la-momia-de-lee-cronin-9/
CATEGORIES:Zinema
END:VEVENT
BEGIN:VEVENT
DTSTART;TZID=Europe/Paris:20260421T190000
DTEND;TZID=Europe/Paris:20260421T210000
DTSTAMP:20260425T183236
CREATED:20260416T111341Z
LAST-MODIFIED:20260416T111341Z
UID:18103-1776798000-1776805200@dot.eus
SUMMARY:Kontinental'25
DESCRIPTION:📍 Zornotza Aretoa\, Amorebieta-Etxano \nJatorrizko bertsioan azpititulatutako drama garaikidea. Gizarte garaikidearen erronkei eta balioen krisiari buruzko hausnarketa sakona.
URL:https://dot.eus/ekitaldiak/kontinental25/
CATEGORIES:Zinema
END:VEVENT
BEGIN:VEVENT
DTSTART;TZID=Europe/Paris:20260421T193500
DTEND;TZID=Europe/Paris:20260421T213500
DTSTAMP:20260425T183236
CREATED:20260416T110738Z
LAST-MODIFIED:20260416T110738Z
UID:18090-1776800100-1776807300@dot.eus
SUMMARY:La momia de Lee Cronin
DESCRIPTION:📍 Cine Zugaza\, Durango \nBeldurrezko thriller izugarria\, non momia baten kondairak giro iluna eta tentsioz betea sortzen duen. Intentsitatea eta misterioa uztartzen dituen proposamena.
URL:https://dot.eus/ekitaldiak/la-momia-de-lee-cronin-10/
CATEGORIES:Zinema
END:VEVENT
BEGIN:VEVENT
DTSTART;TZID=Europe/Paris:20260421T201500
DTEND;TZID=Europe/Paris:20260421T221500
DTSTAMP:20260425T183236
CREATED:20260416T105935Z
LAST-MODIFIED:20260416T105935Z
UID:18068-1776802500-1776809700@dot.eus
SUMMARY:No te olvidaré
DESCRIPTION:📍 Cine Zugaza\, Durango \nDrama emozional sakona\, non memoria eta galeraren gaineko hausnarketa egiten den. Bihotza ukitzen duen istorio intimo eta zintzoa.
URL:https://dot.eus/ekitaldiak/no-te-olvidare-8/
CATEGORIES:Zinema
END:VEVENT
BEGIN:VEVENT
DTSTART;TZID=Europe/Paris:20260421T201500
DTEND;TZID=Europe/Paris:20260421T221500
DTSTAMP:20260425T183236
CREATED:20260416T110336Z
LAST-MODIFIED:20260416T110336Z
UID:18080-1776802500-1776809700@dot.eus
SUMMARY:La familia Benetón +2
DESCRIPTION:📍 Cine Zugaza\, Durango \nKomedia alaia eta familiarra\, non familia bitxi baten abenturak kontatzen diren. Barreak eta bihotza ukitzen dituen istorio dibertigarria.
URL:https://dot.eus/ekitaldiak/la-familia-beneton-2-11/
CATEGORIES:Zinema
END:VEVENT
BEGIN:VEVENT
DTSTART;TZID=Europe/Paris:20260422T190000
DTEND;TZID=Europe/Paris:20260422T210000
DTSTAMP:20260425T183236
CREATED:20260416T105935Z
LAST-MODIFIED:20260416T105935Z
UID:18069-1776884400-1776891600@dot.eus
SUMMARY:No te olvidaré
DESCRIPTION:📍 Cine Zugaza\, Durango \nDrama emozional sakona\, non memoria eta galeraren gaineko hausnarketa egiten den. Bihotza ukitzen duen istorio intimo eta zintzoa.
URL:https://dot.eus/ekitaldiak/no-te-olvidare-9/
CATEGORIES:Zinema
END:VEVENT
BEGIN:VEVENT
DTSTART;TZID=Europe/Paris:20260422T190000
DTEND;TZID=Europe/Paris:20260422T210000
DTSTAMP:20260425T183236
CREATED:20260416T110939Z
LAST-MODIFIED:20260416T110939Z
UID:18091-1776884400-1776891600@dot.eus
SUMMARY:La momia de Lee Cronin
DESCRIPTION:📍 Cine Zugaza\, Durango \nBeldurrezko thriller izugarria\, non momia baten kondairak giro iluna eta tentsioz betea sortzen duen. Intentsitatea eta misterioa uztartzen dituen proposamena.
URL:https://dot.eus/ekitaldiak/la-momia-de-lee-cronin-11/
CATEGORIES:Zinema
END:VEVENT
BEGIN:VEVENT
DTSTART;TZID=Europe/Paris:20260422T190000
DTEND;TZID=Europe/Paris:20260422T212200
DTSTAMP:20260425T183236
CREATED:20260416T110940Z
LAST-MODIFIED:20260416T110940Z
UID:18095-1776884400-1776892920@dot.eus
SUMMARY:Turandot
DESCRIPTION:📍 Cine Zugaza\, Durango \nPucciniren opera klasikoaren 100. Urteurrenaren emanaldia. Maitasuna\, heriotza eta erronkaren inguruko istorio epikoa\, pantaila handira eramana. (142 min)
URL:https://dot.eus/ekitaldiak/turandot/
CATEGORIES:Zinema
END:VEVENT
BEGIN:VEVENT
DTSTART;TZID=Europe/Paris:20260424T180000
DTEND;TZID=Europe/Paris:20260424T200000
DTSTAMP:20260425T183236
CREATED:20260423T222354Z
LAST-MODIFIED:20260423T222354Z
UID:18269-1777053600-1777060800@dot.eus
SUMMARY:Michael
DESCRIPTION:📍 Cine Zugaza\, Durango \nDrama biografiko intentsua\, non artista baten bizitza eta lana aztertzen diren. Sentsibilitate handiz kontatutako istorio hunkigarria.
URL:https://dot.eus/ekitaldiak/michael/
CATEGORIES:Zinema
END:VEVENT
BEGIN:VEVENT
DTSTART;TZID=Europe/Paris:20260424T180000
DTEND;TZID=Europe/Paris:20260424T200000
DTSTAMP:20260425T183236
CREATED:20260423T222602Z
LAST-MODIFIED:20260423T222602Z
UID:18281-1777053600-1777060800@dot.eus
SUMMARY:Turno de noche
DESCRIPTION:📍 Cine Zugaza\, Durango \nThriller psikologiko intentsua\, non gaueko txanda batek izugarrizko sekretuak ezkutatzen dituen. Tentsioz eta misterioz josiriko istorioa.
URL:https://dot.eus/ekitaldiak/turno-de-noche/
CATEGORIES:Zinema
END:VEVENT
BEGIN:VEVENT
DTSTART;TZID=Europe/Paris:20260424T180000
DTEND;TZID=Europe/Paris:20260424T200000
DTSTAMP:20260425T183236
CREATED:20260423T223004Z
LAST-MODIFIED:20260423T223004Z
UID:18290-1777053600-1777060800@dot.eus
SUMMARY:Kraken: El libro negro de las horas
DESCRIPTION:📍 Cine Zugaza\, Durango \nAbenturazko thrillerra\, non liburu misteriotsu batek sekretu ilunak gordetzen dituen. Intentsitatea eta fantasia uztartzen dituen proposamena.
URL:https://dot.eus/ekitaldiak/kraken-el-libro-negro-de-las-horas/
CATEGORIES:Zinema
END:VEVENT
BEGIN:VEVENT
DTSTART;TZID=Europe/Paris:20260424T190000
DTEND;TZID=Europe/Paris:20260424T210000
DTSTAMP:20260425T183236
CREATED:20260423T223607Z
LAST-MODIFIED:20260423T223607Z
UID:18305-1777057200-1777064400@dot.eus
SUMMARY:Calle Málaga
DESCRIPTION:📍 Zornotza Aretoa\, Amorebieta-Etxano \nDrama sozial eta emozionala\, non hiriko bizitzak eta pertsonen arteko harremanak aztertzen diren. Pertsonaien bilakaera eta bizitzaren biraketen inguruko gogoeta sakona.
URL:https://dot.eus/ekitaldiak/calle-malaga-9/
CATEGORIES:Zinema
END:VEVENT
BEGIN:VEVENT
DTSTART;TZID=Europe/Paris:20260424T200000
DTEND;TZID=Europe/Paris:20260424T220000
DTSTAMP:20260425T183236
CREATED:20260423T224009Z
LAST-MODIFIED:20260423T224009Z
UID:18316-1777060800-1777068000@dot.eus
SUMMARY:Saeta
DESCRIPTION:📍 Arriola Antzokia\, Elorrio \nAntzerki obra\, non gai sakonak modu poetiko eta zintzoan jorratzen diren. Ikuslea hausnarketara gonbidatzen duen proposamen artistikoa.
URL:https://dot.eus/ekitaldiak/saeta-2/
CATEGORIES:Antzerkia
END:VEVENT
BEGIN:VEVENT
DTSTART;TZID=Europe/Paris:20260424T203000
DTEND;TZID=Europe/Paris:20260424T223000
DTSTAMP:20260425T183236
CREATED:20260423T222354Z
LAST-MODIFIED:20260423T222354Z
UID:18270-1777062600-1777069800@dot.eus
SUMMARY:Michael
DESCRIPTION:📍 Cine Zugaza\, Durango \nDrama biografiko intentsua\, non artista baten bizitza eta lana aztertzen diren. Sentsibilitate handiz kontatutako istorio hunkigarria.
URL:https://dot.eus/ekitaldiak/michael-2/
CATEGORIES:Zinema
END:VEVENT
BEGIN:VEVENT
DTSTART;TZID=Europe/Paris:20260424T203000
DTEND;TZID=Europe/Paris:20260424T223000
DTSTAMP:20260425T183236
CREATED:20260423T222602Z
LAST-MODIFIED:20260423T222602Z
UID:18282-1777062600-1777069800@dot.eus
SUMMARY:Turno de noche
DESCRIPTION:📍 Cine Zugaza\, Durango \nThriller psikologiko intentsua\, non gaueko txanda batek izugarrizko sekretuak ezkutatzen dituen. Tentsioz eta misterioz josiriko istorioa.
URL:https://dot.eus/ekitaldiak/turno-de-noche-2/
CATEGORIES:Zinema
END:VEVENT
BEGIN:VEVENT
DTSTART;TZID=Europe/Paris:20260424T203000
DTEND;TZID=Europe/Paris:20260424T223000
DTSTAMP:20260425T183236
CREATED:20260423T223004Z
LAST-MODIFIED:20260423T223004Z
UID:18291-1777062600-1777069800@dot.eus
SUMMARY:Kraken: El libro negro de las horas
DESCRIPTION:📍 Cine Zugaza\, Durango \nAbenturazko thrillerra\, non liburu misteriotsu batek sekretu ilunak gordetzen dituen. Intentsitatea eta fantasia uztartzen dituen proposamena.
URL:https://dot.eus/ekitaldiak/kraken-el-libro-negro-de-las-horas-2/
CATEGORIES:Zinema
END:VEVENT
BEGIN:VEVENT
DTSTART;TZID=Europe/Paris:20260424T203000
DTEND;TZID=Europe/Paris:20260424T223000
DTSTAMP:20260425T183236
CREATED:20260423T224212Z
LAST-MODIFIED:20260423T224212Z
UID:18322-1777062600-1777069800@dot.eus
SUMMARY:Janus Lester
DESCRIPTION:📍 Ermua Antzokia\, Ermua \nKontzertu berezia\, non Janus Lester musikariaren proposamenak giro paregabea sortzen duen. Musika eta sentsibilitatea uztartzen dituen ikuskizuna.
URL:https://dot.eus/ekitaldiak/janus-lester/
CATEGORIES:Musika
END:VEVENT
BEGIN:VEVENT
DTSTART;TZID=Europe/Paris:20260424T210000
DTEND;TZID=Europe/Paris:20260424T230000
DTSTAMP:20260425T183236
CREATED:20260423T223808Z
LAST-MODIFIED:20260423T223808Z
UID:18312-1777064400-1777071600@dot.eus
SUMMARY:Oraina eskuetan
DESCRIPTION:📍 Casa de Cultura\, Berriz \nKontzertu euskaldun intimista\, non oraingoaren garrantziaz hausnartzen den. Musika eta sentsibilitatea uztartzen dituen proposamen berezia.
URL:https://dot.eus/ekitaldiak/oraina-eskuetan/
CATEGORIES:Musika
END:VEVENT
BEGIN:VEVENT
DTSTART;TZID=Europe/Paris:20260425T163000
DTEND;TZID=Europe/Paris:20260425T183000
DTSTAMP:20260425T183236
CREATED:20260423T222354Z
LAST-MODIFIED:20260423T222354Z
UID:18271-1777134600-1777141800@dot.eus
SUMMARY:Michael
DESCRIPTION:📍 Cine Zugaza\, Durango \nDrama biografiko intentsua\, non artista baten bizitza eta lana aztertzen diren. Sentsibilitate handiz kontatutako istorio hunkigarria.
URL:https://dot.eus/ekitaldiak/michael-3/
CATEGORIES:Zinema
END:VEVENT
END:VCALENDAR