BEGIN:VCALENDAR
VERSION:2.0
PRODID:-//DOT Durangaldea - ECPv6.15.18//NONSGML v1.0//EN
CALSCALE:GREGORIAN
METHOD:PUBLISH
X-WR-CALNAME:DOT Durangaldea
X-ORIGINAL-URL:https://dot.eus
X-WR-CALDESC:Events for DOT Durangaldea
REFRESH-INTERVAL;VALUE=DURATION:PT1H
X-Robots-Tag:noindex
X-PUBLISHED-TTL:PT1H
BEGIN:VTIMEZONE
TZID:Europe/Paris
BEGIN:DAYLIGHT
TZOFFSETFROM:+0100
TZOFFSETTO:+0200
TZNAME:CEST
DTSTART:20250330T010000
END:DAYLIGHT
BEGIN:STANDARD
TZOFFSETFROM:+0200
TZOFFSETTO:+0100
TZNAME:CET
DTSTART:20251026T010000
END:STANDARD
BEGIN:DAYLIGHT
TZOFFSETFROM:+0100
TZOFFSETTO:+0200
TZNAME:CEST
DTSTART:20260329T010000
END:DAYLIGHT
BEGIN:STANDARD
TZOFFSETFROM:+0200
TZOFFSETTO:+0100
TZNAME:CET
DTSTART:20261025T010000
END:STANDARD
BEGIN:DAYLIGHT
TZOFFSETFROM:+0100
TZOFFSETTO:+0200
TZNAME:CEST
DTSTART:20270328T010000
END:DAYLIGHT
BEGIN:STANDARD
TZOFFSETFROM:+0200
TZOFFSETTO:+0100
TZNAME:CET
DTSTART:20271031T010000
END:STANDARD
END:VTIMEZONE
BEGIN:VEVENT
DTSTART;TZID=Europe/Paris:20260227T180000
DTEND;TZID=Europe/Paris:20260227T200000
DTSTAMP:20260420T101139
CREATED:20260228T181911Z
LAST-MODIFIED:20260228T181911Z
UID:16693-1772215200-1772222400@dot.eus
SUMMARY:SCREAM 7
DESCRIPTION:📍 Zugaza Zinema\, Durango \nBeldur filmaren saga ikonikoko bertsio berria. Ghostface itzuli egiten da biktima talde berri bati beldurra emateko\, tentsio eta odol-emakumea jarraian.
URL:https://dot.eus/ekitaldiak/scream-7/
CATEGORIES:Zinema
END:VEVENT
BEGIN:VEVENT
DTSTART;TZID=Europe/Paris:20260227T180000
DTEND;TZID=Europe/Paris:20260227T200000
DTSTAMP:20260420T101139
CREATED:20260228T181911Z
LAST-MODIFIED:20260228T181911Z
UID:16694-1772215200-1772222400@dot.eus
SUMMARY:ISLAS
DESCRIPTION:📍 Zugaza Zinema\, Durango \nIntimitatezko drama giza harremanak eta bakardadea aztertzen duena\, munduan beren tokia bilatzen duten pertsonaien bidez\, ziurgabetasunaren ozeanoan itsasoak bezala.
URL:https://dot.eus/ekitaldiak/islas/
CATEGORIES:Zinema
END:VEVENT
BEGIN:VEVENT
DTSTART;TZID=Europe/Paris:20260226T170000
DTEND;TZID=Europe/Paris:20260226T190000
DTSTAMP:20260420T101139
CREATED:20260228T181910Z
LAST-MODIFIED:20260228T181910Z
UID:16692-1772125200-1772132400@dot.eus
SUMMARY:Zure buruari Maitatzeko artea
DESCRIPTION:📍 Emakumeen Etxea\, Ermua \nAutoestima eta ahalduntzearen tailerra. Zeure burua zaintzea\, nire irudia berregitea eta norbere boterea kolektiboki zabaltzen ikasteko lekua.
URL:https://dot.eus/ekitaldiak/zure-buruari-maitatzeko-artea/
CATEGORIES:Besteak
END:VEVENT
END:VCALENDAR